BEGIN:VCALENDAR
VERSION:2.0
PRODID:-//Garden Club of Concord - ECPv6.15.20//NONSGML v1.0//EN
CALSCALE:GREGORIAN
METHOD:PUBLISH
X-WR-CALNAME:Garden Club of Concord
X-ORIGINAL-URL:https://gardenclubofconcord.org
X-WR-CALDESC:Events for Garden Club of Concord
REFRESH-INTERVAL;VALUE=DURATION:PT1H
X-Robots-Tag:noindex
X-PUBLISHED-TTL:PT1H
BEGIN:VTIMEZONE
TZID:America/New_York
BEGIN:DAYLIGHT
TZOFFSETFROM:-0500
TZOFFSETTO:-0400
TZNAME:EDT
DTSTART:20180311T070000
END:DAYLIGHT
BEGIN:STANDARD
TZOFFSETFROM:-0400
TZOFFSETTO:-0500
TZNAME:EST
DTSTART:20181104T060000
END:STANDARD
BEGIN:DAYLIGHT
TZOFFSETFROM:-0500
TZOFFSETTO:-0400
TZNAME:EDT
DTSTART:20190310T070000
END:DAYLIGHT
BEGIN:STANDARD
TZOFFSETFROM:-0400
TZOFFSETTO:-0500
TZNAME:EST
DTSTART:20191103T060000
END:STANDARD
BEGIN:DAYLIGHT
TZOFFSETFROM:-0500
TZOFFSETTO:-0400
TZNAME:EDT
DTSTART:20200308T070000
END:DAYLIGHT
BEGIN:STANDARD
TZOFFSETFROM:-0400
TZOFFSETTO:-0500
TZNAME:EST
DTSTART:20201101T060000
END:STANDARD
END:VTIMEZONE
BEGIN:VEVENT
DTSTART;TZID=America/New_York:20190921T103000
DTEND;TZID=America/New_York:20190921T123000
DTSTAMP:20260423T145153
CREATED:20190917T193032Z
LAST-MODIFIED:20190917T193032Z
UID:3058-1569061800-1569069000@gardenclubofconcord.org
SUMMARY:Tour of Dennis Fiori's garden
DESCRIPTION:Please remember to park across the street at the Nashoba Brooks School parking lot. Walk across the road to visit the garden. \n 
URL:https://gardenclubofconcord.org/event/tour-of-dennis-fioris-garden/
LOCATION:309 Strawberry Hill Rd.
END:VEVENT
BEGIN:VEVENT
DTSTART;TZID=America/New_York:20190918T180000
DTEND;TZID=America/New_York:20190918T190000
DTSTAMP:20260423T145153
CREATED:20190815T200345Z
LAST-MODIFIED:20190916T194106Z
UID:2802-1568829600-1568833200@gardenclubofconcord.org
SUMMARY:Welcome Back Social
DESCRIPTION:Join us at the home of Charity Tremblay\, 1455 Monument St.\, to begin a new season of GCC! \nPlease bring any bounty from your gardens for sharing. We will have a brief meeting.
URL:https://gardenclubofconcord.org/event/welcome-back-social/
LOCATION:1455 Monument St.
END:VEVENT
BEGIN:VEVENT
DTSTART;TZID=America/New_York:20190914T100000
DTEND;TZID=America/New_York:20190914T160000
DTSTAMP:20260423T145153
CREATED:20190815T174231Z
LAST-MODIFIED:20190815T174252Z
UID:2797-1568455200-1568476800@gardenclubofconcord.org
SUMMARY:Concord Ag Day & Kitchen Garden Tour
DESCRIPTION:Once again\, the garden club will participate in Concord’s Annual Ag Day to celebrate the bounty of Concord’s many local farms. There will be a table with activities for children. \nWe will sponsor a tour of local kitchen gardens from 1-4 p.m. Tour passes will be available from 10-2 p.m.
URL:https://gardenclubofconcord.org/event/concord-ag-day-kitchen-garden-tour/
LOCATION:Main Street\, Concord
END:VEVENT
BEGIN:VEVENT
DTSTART;TZID=America/New_York:20190911T090000
DTEND;TZID=America/New_York:20190911T103000
DTSTAMP:20260423T145153
CREATED:20190817T182944Z
LAST-MODIFIED:20190817T182959Z
UID:2904-1568192400-1568197800@gardenclubofconcord.org
SUMMARY:GCC Board Meeting
DESCRIPTION:
URL:https://gardenclubofconcord.org/event/gcc-board-meeting/
LOCATION:Trustees Room\, Concord Free Public Library
END:VEVENT
END:VCALENDAR