BEGIN:VCALENDAR
VERSION:2.0
PRODID:-//Garden Club of Concord - ECPv6.15.20//NONSGML v1.0//EN
CALSCALE:GREGORIAN
METHOD:PUBLISH
X-WR-CALNAME:Garden Club of Concord
X-ORIGINAL-URL:https://gardenclubofconcord.org
X-WR-CALDESC:Events for Garden Club of Concord
REFRESH-INTERVAL;VALUE=DURATION:PT1H
X-Robots-Tag:noindex
X-PUBLISHED-TTL:PT1H
BEGIN:VTIMEZONE
TZID:America/New_York
BEGIN:DAYLIGHT
TZOFFSETFROM:-0500
TZOFFSETTO:-0400
TZNAME:EDT
DTSTART:20190310T070000
END:DAYLIGHT
BEGIN:STANDARD
TZOFFSETFROM:-0400
TZOFFSETTO:-0500
TZNAME:EST
DTSTART:20191103T060000
END:STANDARD
BEGIN:DAYLIGHT
TZOFFSETFROM:-0500
TZOFFSETTO:-0400
TZNAME:EDT
DTSTART:20200308T070000
END:DAYLIGHT
BEGIN:STANDARD
TZOFFSETFROM:-0400
TZOFFSETTO:-0500
TZNAME:EST
DTSTART:20201101T060000
END:STANDARD
BEGIN:DAYLIGHT
TZOFFSETFROM:-0500
TZOFFSETTO:-0400
TZNAME:EDT
DTSTART:20210314T070000
END:DAYLIGHT
BEGIN:STANDARD
TZOFFSETFROM:-0400
TZOFFSETTO:-0500
TZNAME:EST
DTSTART:20211107T060000
END:STANDARD
BEGIN:DAYLIGHT
TZOFFSETFROM:-0500
TZOFFSETTO:-0400
TZNAME:EDT
DTSTART:20220313T070000
END:DAYLIGHT
BEGIN:STANDARD
TZOFFSETFROM:-0400
TZOFFSETTO:-0500
TZNAME:EST
DTSTART:20221106T060000
END:STANDARD
BEGIN:DAYLIGHT
TZOFFSETFROM:-0500
TZOFFSETTO:-0400
TZNAME:EDT
DTSTART:20230312T070000
END:DAYLIGHT
BEGIN:STANDARD
TZOFFSETFROM:-0400
TZOFFSETTO:-0500
TZNAME:EST
DTSTART:20231105T060000
END:STANDARD
END:VTIMEZONE
BEGIN:VEVENT
DTSTART;TZID=America/New_York:20220209T090000
DTEND;TZID=America/New_York:20220209T100000
DTSTAMP:20260422T204538
CREATED:20210918T155058Z
LAST-MODIFIED:20210918T155058Z
UID:5330-1644397200-1644400800@gardenclubofconcord.org
SUMMARY:GCC Board Meeting
DESCRIPTION:
URL:https://gardenclubofconcord.org/event/gcc-board-meeting-24/
END:VEVENT
BEGIN:VEVENT
DTSTART;TZID=America/New_York:20220119T130000
DTEND;TZID=America/New_York:20220119T140000
DTSTAMP:20260422T204538
CREATED:20210706T125339Z
LAST-MODIFIED:20210706T125339Z
UID:5201-1642597200-1642600800@gardenclubofconcord.org
SUMMARY:Sunny Perennial Borders
DESCRIPTION:Please join us for a virtual presentation on Wednesday\, January 19\, 2022 at 1 p.m. by Jana Milbocker of Enchanted Gardens. \nJana is a well-known author and lecturer. Her most recent book is “The Garden Tourist: 120 Destination Gardens and Nurseries in the Northeast.” She has a passion for landscape design and has been gardening on her two-acre property in Holliston’s historic district for over 25 years.
URL:https://gardenclubofconcord.org/event/sunny-perennial-borders/
LOCATION:via Zoom
END:VEVENT
BEGIN:VEVENT
DTSTART;TZID=America/New_York:20220112T090000
DTEND;TZID=America/New_York:20220112T100000
DTSTAMP:20260422T204538
CREATED:20210918T154917Z
LAST-MODIFIED:20210918T154917Z
UID:5328-1641978000-1641981600@gardenclubofconcord.org
SUMMARY:GCC Board Meeting
DESCRIPTION:
URL:https://gardenclubofconcord.org/event/gcc-board-meeting-23/
END:VEVENT
BEGIN:VEVENT
DTSTART;TZID=America/New_York:20220105T100000
DTEND;TZID=America/New_York:20220105T110000
DTSTAMP:20260422T204538
CREATED:20211201T152512Z
LAST-MODIFIED:20211201T152512Z
UID:5634-1641376800-1641380400@gardenclubofconcord.org
SUMMARY:Special Webinar with Douglas Tallamy
DESCRIPTION:In Collaboration with Seeds and Weeds Garden Club\, and The West Concord Green Thumbs\, we have an extra education program this month featuring acclaimed author and ecologist Doug Tallamy . Presentation will be recorded. Details forthcoming.
URL:https://gardenclubofconcord.org/event/special-webinar-with-douglas-tallamy/
END:VEVENT
BEGIN:VEVENT
DTSTART;TZID=America/New_York:20211208T113000
DTEND;TZID=America/New_York:20211208T133000
DTSTAMP:20260422T204538
CREATED:20210918T160112Z
LAST-MODIFIED:20211130T225815Z
UID:5344-1638963000-1638970200@gardenclubofconcord.org
SUMMARY:Holiday Gathering
DESCRIPTION:Lauren Huyett’s Barn\, 11:30 am to 1 pm \nOutside Gathering\, hot drinks and finger sandwiches. Dress Warmly! \nWeather date\, TBD
URL:https://gardenclubofconcord.org/event/holiday-gathering/
END:VEVENT
BEGIN:VEVENT
DTSTART;TZID=America/New_York:20211207T103000
DTEND;TZID=America/New_York:20211207T113000
DTSTAMP:20260422T204538
CREATED:20210918T160316Z
LAST-MODIFIED:20211130T225656Z
UID:5346-1638873000-1638876600@gardenclubofconcord.org
SUMMARY:Holiday Workshop
DESCRIPTION:Video by Jeanne Hamilton will be posted to the blog and will also be emailed to members the second week of December. 
URL:https://gardenclubofconcord.org/event/holiday-workshop-3/
END:VEVENT
BEGIN:VEVENT
DTSTART;TZID=America/New_York:20211206T093000
DTEND;TZID=America/New_York:20211206T110000
DTSTAMP:20260422T204538
CREATED:20210918T155910Z
LAST-MODIFIED:20211127T141856Z
UID:5340-1638783000-1638788400@gardenclubofconcord.org
SUMMARY:Cans for Caring
DESCRIPTION:315 Lexington Road \nPlease wear your mask\, thank you.
URL:https://gardenclubofconcord.org/event/cans-for-caring/
END:VEVENT
BEGIN:VEVENT
DTSTART;TZID=America/New_York:20211201T090000
DTEND;TZID=America/New_York:20211201T100000
DTSTAMP:20260422T204538
CREATED:20210918T154832Z
LAST-MODIFIED:20210918T160148Z
UID:5326-1638349200-1638352800@gardenclubofconcord.org
SUMMARY:GCC Board Meeting
DESCRIPTION:
URL:https://gardenclubofconcord.org/event/gcc-board-meeting-22/
END:VEVENT
BEGIN:VEVENT
DTSTART;TZID=America/New_York:20211117T130000
DTEND;TZID=America/New_York:20211117T140000
DTSTAMP:20260422T204538
CREATED:20210706T125105Z
LAST-MODIFIED:20210706T125105Z
UID:5198-1637154000-1637157600@gardenclubofconcord.org
SUMMARY:Mount Desert Land & Garden Preserve: Behind the Scenes
DESCRIPTION:Please join us for a virtual presentation on Wednesday\, November 17 at 1 p.m. by Cassie Banning\, Director of Farm and Gardens for the Mount Desert Land & Garden Preserve. \nCassie will lead us through an exploration of three unique gardens on the coast of Maine: Asticou Azalea Garden\, the Abby Aldrich Rockefeller Garden\, and Thuya Garden. \nWe will learn about their history\, maintenance\, and how you can visit today.
URL:https://gardenclubofconcord.org/event/mount-desert-land-garden-preserve-behind-the-scenes/
LOCATION:via Zoom
END:VEVENT
BEGIN:VEVENT
DTSTART;TZID=America/New_York:20211110T090000
DTEND;TZID=America/New_York:20211110T100000
DTSTAMP:20260422T204538
CREATED:20210918T154746Z
LAST-MODIFIED:20210918T154746Z
UID:5324-1636534800-1636538400@gardenclubofconcord.org
SUMMARY:GCC Board Meeting
DESCRIPTION:
URL:https://gardenclubofconcord.org/event/gcc-board-meeting-21/
END:VEVENT
BEGIN:VEVENT
DTSTART;TZID=America/New_York:20211020T130000
DTEND;TZID=America/New_York:20211020T140000
DTSTAMP:20260422T204538
CREATED:20210706T124734Z
LAST-MODIFIED:20210706T124734Z
UID:5196-1634734800-1634738400@gardenclubofconcord.org
SUMMARY:Masses and Grasses
DESCRIPTION:Please join us for a virtual presentation on Wednesday\, October 20 at 1 p.m. by Lili Herrera\, lead landscape architect of the firm OEHME Sweden of Washington\, D.C. \nLili will speak on the “New American Garden” style of design which embraces the seasonality of the American meadow with an emphasis on “massing” plants.
URL:https://gardenclubofconcord.org/event/masses-and-grasses/
LOCATION:via Zoom
END:VEVENT
BEGIN:VEVENT
DTSTART;TZID=America/New_York:20211013T090000
DTEND;TZID=America/New_York:20211013T100000
DTSTAMP:20260422T204538
CREATED:20210918T154435Z
LAST-MODIFIED:20210918T154709Z
UID:5321-1634115600-1634119200@gardenclubofconcord.org
SUMMARY:GCC Board Meeting
DESCRIPTION:
URL:https://gardenclubofconcord.org/event/october-board-meeting/
END:VEVENT
BEGIN:VEVENT
DTSTART;TZID=America/New_York:20210922T130000
DTEND;TZID=America/New_York:20210922T160000
DTSTAMP:20260422T204538
CREATED:20210918T153936Z
LAST-MODIFIED:20210918T154240Z
UID:5316-1632315600-1632326400@gardenclubofconcord.org
SUMMARY:Apple Picking and Cider Making at Lauren Huyett's
DESCRIPTION:with John Althouse. Please see emailed sign up for details. 
URL:https://gardenclubofconcord.org/event/apple-picking-and-cider-making-at-lauren-huyetts/
ORGANIZER;CN="Garden Club of Concord":MAILTO:comment-reply@wordpress.com
END:VEVENT
BEGIN:VEVENT
DTSTART;TZID=America/New_York:20210918T100000
DTEND;TZID=America/New_York:20210918T110000
DTSTAMP:20260422T204538
CREATED:20210918T155956Z
LAST-MODIFIED:20210918T155956Z
UID:5342-1631959200-1631962800@gardenclubofconcord.org
SUMMARY:Holiday Workshop
DESCRIPTION:Location TBD
URL:https://gardenclubofconcord.org/event/holiday-workshop-2/
END:VEVENT
BEGIN:VEVENT
DTSTART;TZID=America/New_York:20210602T090000
DTEND;TZID=America/New_York:20210602T100000
DTSTAMP:20260422T204538
CREATED:20200921T191151Z
LAST-MODIFIED:20200921T191151Z
UID:4184-1622624400-1622628000@gardenclubofconcord.org
SUMMARY:GCC Board Meeting
DESCRIPTION:
URL:https://gardenclubofconcord.org/event/gcc-board-meeting-20/
LOCATION:via Zoom
END:VEVENT
BEGIN:VEVENT
DTSTART;TZID=America/New_York:20210519T190000
DTEND;TZID=America/New_York:20210519T203000
DTSTAMP:20260422T204538
CREATED:20210425T192048Z
LAST-MODIFIED:20210425T192048Z
UID:4797-1621450800-1621456200@gardenclubofconcord.org
SUMMARY:Ecology Along Concord Trails
DESCRIPTION:Join us on the evening of May 19th at 7 p.m. for a Zoom presentation by Delia Kay\, Concord’s Natural Resources Director and Richard Forman\, Professor Emeritus of Ecology at Harvard University who will discuss their new book\, co-authored with Robert White\,”Ecology Along Concord Trails: Exploring Fourteen Areas.” \n  \n  \n 
URL:https://gardenclubofconcord.org/event/ecology-along-concord-trails/
LOCATION:Zoom presentation
END:VEVENT
BEGIN:VEVENT
DTSTART;TZID=America/New_York:20210512T090000
DTEND;TZID=America/New_York:20210512T100000
DTSTAMP:20260422T204538
CREATED:20200921T191022Z
LAST-MODIFIED:20200921T191022Z
UID:4182-1620810000-1620813600@gardenclubofconcord.org
SUMMARY:GCC Board Meeting
DESCRIPTION:
URL:https://gardenclubofconcord.org/event/gcc-board-meeting-19/
LOCATION:via Zoom
END:VEVENT
BEGIN:VEVENT
DTSTART;TZID=America/New_York:20210414T130000
DTEND;TZID=America/New_York:20210414T140000
DTSTAMP:20260422T204538
CREATED:20210216T202933Z
LAST-MODIFIED:20210216T202933Z
UID:4625-1618405200-1618408800@gardenclubofconcord.org
SUMMARY:Hip Hip Hydrangeas!
DESCRIPTION:Please join us for a talk by Andi Ross on this enduringly popular shrub and its many cultivars.  \nThis will be a Zoom presentation.
URL:https://gardenclubofconcord.org/event/hip-hip-hydrangeas-2/
LOCATION:Zoom presentation
END:VEVENT
BEGIN:VEVENT
DTSTART;TZID=America/New_York:20210414T090000
DTEND;TZID=America/New_York:20210414T100000
DTSTAMP:20260422T204538
CREATED:20200921T190931Z
LAST-MODIFIED:20200921T190931Z
UID:4180-1618390800-1618394400@gardenclubofconcord.org
SUMMARY:GCC Board Meeting
DESCRIPTION:
URL:https://gardenclubofconcord.org/event/gcc-board-meeting-18/
LOCATION:via Zoom
END:VEVENT
BEGIN:VEVENT
DTSTART;TZID=America/New_York:20210317T130000
DTEND;TZID=America/New_York:20210317T140000
DTSTAMP:20260422T204538
CREATED:20210214T200247Z
LAST-MODIFIED:20210214T200247Z
UID:4618-1615986000-1615989600@gardenclubofconcord.org
SUMMARY:Changes Over Time of Concord's Birds and Mammals
DESCRIPTION:Please join us for a talk by Peter Alden\, Concord’s well-known ornithologist and author\, to learn about the changes over time to our town’s bird and mammal inhabitants. \nThe meeting will also include a slideshow of current flora and fauna by talented photographer and club member\, Cris Van Dyke.
URL:https://gardenclubofconcord.org/event/changes-over-time-of-concords-birds-and-mammals/
LOCATION:Zoom presentation
END:VEVENT
BEGIN:VEVENT
DTSTART;TZID=America/New_York:20210310T090000
DTEND;TZID=America/New_York:20210310T100000
DTSTAMP:20260422T204538
CREATED:20200921T190213Z
LAST-MODIFIED:20200921T190213Z
UID:4178-1615366800-1615370400@gardenclubofconcord.org
SUMMARY:GCC Board Meeting
DESCRIPTION:
URL:https://gardenclubofconcord.org/event/gcc-board-meeting-17/
LOCATION:via Zoom
END:VEVENT
BEGIN:VEVENT
DTSTART;TZID=America/New_York:20210217T130000
DTEND;TZID=America/New_York:20210217T140000
DTSTAMP:20260422T204538
CREATED:20210111T194800Z
LAST-MODIFIED:20210201T204416Z
UID:4508-1613566800-1613570400@gardenclubofconcord.org
SUMMARY:A Messy Moment & "Portrait of the Winter Garden"
DESCRIPTION:Join us for a Messy Moment of winter blooms with club member Wilhelmina van der Wansem followed by a talk on the beauties of the winter garden by Judith Irven\, owner of North Country Reflections in Goshen\, Vermont.
URL:https://gardenclubofconcord.org/event/february-members-meeting/
LOCATION:Zoom presentation
END:VEVENT
BEGIN:VEVENT
DTSTART;TZID=America/New_York:20210210T090000
DTEND;TZID=America/New_York:20210210T100000
DTSTAMP:20260422T204538
CREATED:20200921T190107Z
LAST-MODIFIED:20200921T190107Z
UID:4176-1612947600-1612951200@gardenclubofconcord.org
SUMMARY:GCC Board Meeting
DESCRIPTION:
URL:https://gardenclubofconcord.org/event/gcc-board-meeting-16/
LOCATION:via Zoom
END:VEVENT
BEGIN:VEVENT
DTSTART;TZID=America/New_York:20210114T100000
DTEND;TZID=America/New_York:20210118T160000
DTSTAMP:20260422T204538
CREATED:20201229T174747Z
LAST-MODIFIED:20201229T174747Z
UID:4475-1610618400-1610985600@gardenclubofconcord.org
SUMMARY:Art in Bloom Concord
DESCRIPTION:Art in Bloom Concord \nArrangement by club member Pam Nelson \nOur January meeting this year will be a celebration of art through flowers arranged by club members. \nArt in Bloom is a collaboration of the Garden Club of Concord\, Concord Art\, and the Concord Museum. Garden Club members will create floral interpretations of entries in Concord Art’s Members Juried 1: Painting and Sculpture and the watercolors of Loring Coleman at the Museum’s exhibit: HOME: Paintings by Loring W.Coleman. \nArrangements will be on display January 14-17th at Concord Art and January 16-18 at the Concord Museum. \nVirtual presentations will be available on each organization’s website. \nPlease confirm visiting guidelines at Concord Art  http://www.concordart.org \nPlease reserve timed tickets online in advance of your Concord Museum visit at http://www.concordmuseum.org \n 
URL:https://gardenclubofconcord.org/event/art-in-bloom-concord/
ORGANIZER;CN="Garden Club of Concord":MAILTO:comment-reply@wordpress.com
END:VEVENT
BEGIN:VEVENT
DTSTART;TZID=America/New_York:20210113T090000
DTEND;TZID=America/New_York:20210113T100000
DTSTAMP:20260422T204538
CREATED:20200921T184246Z
LAST-MODIFIED:20200921T184246Z
UID:4168-1610528400-1610532000@gardenclubofconcord.org
SUMMARY:GCC Board Meeting
DESCRIPTION:
URL:https://gardenclubofconcord.org/event/gcc-board-meeting-15/
LOCATION:via Zoom
END:VEVENT
BEGIN:VEVENT
DTSTART;TZID=America/New_York:20201216T130000
DTEND;TZID=America/New_York:20201216T140000
DTSTAMP:20260422T204538
CREATED:20201019T163500Z
LAST-MODIFIED:20201019T163500Z
UID:4290-1608123600-1608127200@gardenclubofconcord.org
SUMMARY:The Spirit of Christmas Past: Four Centuries of Christmas in New England
DESCRIPTION:Please join us for a Zoom presentation by Kenneth C. Turino\, Manager of Community Engagement and Exhibitions at Historic New England on Wednesday\, December 16th\, at 1 p.m. \nMr. Turino will also incorporate descriptions and images of Concord Christmas celebrations. \nA Zoom link invitation will be sent a few days before the presentation. \n 
URL:https://gardenclubofconcord.org/event/the-spirit-of-christmas-past-four-centuries-of-christmas-in-new-england/
LOCATION:Zoom presentation
END:VEVENT
BEGIN:VEVENT
DTSTART;TZID=America/New_York:20201209T090000
DTEND;TZID=America/New_York:20201209T100000
DTSTAMP:20260422T204538
CREATED:20200921T184214Z
LAST-MODIFIED:20200921T184214Z
UID:4166-1607504400-1607508000@gardenclubofconcord.org
SUMMARY:GCC Board Meeting
DESCRIPTION:
URL:https://gardenclubofconcord.org/event/gcc-board-meeting-14/
LOCATION:via Zoom
END:VEVENT
BEGIN:VEVENT
DTSTART;TZID=America/New_York:20201118T130000
DTEND;TZID=America/New_York:20201118T140000
DTSTAMP:20260422T204538
CREATED:20200921T184119Z
LAST-MODIFIED:20201012T194242Z
UID:4093-1605704400-1605708000@gardenclubofconcord.org
SUMMARY:Virtual Tour of the Bridge of Flowers
DESCRIPTION:Please join us for a Zoom presentation by Kirsten Torkelson who will take us on a virtual tour of the famous “Bridge of Flowers” in Shelburne Falls\, Mass. \nLearn how this former trolley bridge was transformed into a thriving garden atop the Deerfield River. \nKirsten is a versatile photographer based in Foxboro. She has a particular interest in nature photography\, especially flowers and gardens. \nA Zoom link and invitation will be emailed to all members a few days before the presentation.
URL:https://gardenclubofconcord.org/event/how-to-take-a-better-photograph-no-matter-what-kind-of-camera-you-are-using/
LOCATION:Zoom presentation
END:VEVENT
BEGIN:VEVENT
DTSTART;TZID=America/New_York:20201111T090000
DTEND;TZID=America/New_York:20201111T100000
DTSTAMP:20260422T204538
CREATED:20200903T172021Z
LAST-MODIFIED:20200903T172021Z
UID:4103-1605085200-1605088800@gardenclubofconcord.org
SUMMARY:GCC Board Meeting
DESCRIPTION:
URL:https://gardenclubofconcord.org/event/gcc-board-meeting-13/
LOCATION:via Zoom
END:VEVENT
BEGIN:VEVENT
DTSTART;TZID=America/New_York:20201021T130000
DTEND;TZID=America/New_York:20201021T150000
DTSTAMP:20260422T204538
CREATED:20200921T183949Z
LAST-MODIFIED:20200927T183406Z
UID:4087-1603285200-1603292400@gardenclubofconcord.org
SUMMARY:Beatrix Farrand's American Landscapes
DESCRIPTION:Please join us via Zoom for a streaming of the film Beatrix Farrand’s American Landscapes on October 21st at 1 p.m. \nHosts for the film will be club members Dennis Fiori and Jane Rupley. \nThey will be joined by Patrick Chassé\, a renowned landscape architect with an extensive knowledge of  Beatrix Farrand’s gardens\, both public and private. \nA question and answer period will follow the film. \nA Zoom link and invitation email will be sent to all club members a few days before the screening.
URL:https://gardenclubofconcord.org/event/beatrix-farrands-american-landscapes/
LOCATION:Zoom presentation
END:VEVENT
END:VCALENDAR