BEGIN:VCALENDAR
VERSION:2.0
PRODID:-//Garden Club of Concord - ECPv6.15.20//NONSGML v1.0//EN
CALSCALE:GREGORIAN
METHOD:PUBLISH
X-WR-CALNAME:Garden Club of Concord
X-ORIGINAL-URL:https://gardenclubofconcord.org
X-WR-CALDESC:Events for Garden Club of Concord
REFRESH-INTERVAL;VALUE=DURATION:PT1H
X-Robots-Tag:noindex
X-PUBLISHED-TTL:PT1H
BEGIN:VTIMEZONE
TZID:America/New_York
BEGIN:DAYLIGHT
TZOFFSETFROM:-0500
TZOFFSETTO:-0400
TZNAME:EDT
DTSTART:20210314T070000
END:DAYLIGHT
BEGIN:STANDARD
TZOFFSETFROM:-0400
TZOFFSETTO:-0500
TZNAME:EST
DTSTART:20211107T060000
END:STANDARD
BEGIN:DAYLIGHT
TZOFFSETFROM:-0500
TZOFFSETTO:-0400
TZNAME:EDT
DTSTART:20220313T070000
END:DAYLIGHT
BEGIN:STANDARD
TZOFFSETFROM:-0400
TZOFFSETTO:-0500
TZNAME:EST
DTSTART:20221106T060000
END:STANDARD
BEGIN:DAYLIGHT
TZOFFSETFROM:-0500
TZOFFSETTO:-0400
TZNAME:EDT
DTSTART:20230312T070000
END:DAYLIGHT
BEGIN:STANDARD
TZOFFSETFROM:-0400
TZOFFSETTO:-0500
TZNAME:EST
DTSTART:20231105T060000
END:STANDARD
BEGIN:DAYLIGHT
TZOFFSETFROM:-0500
TZOFFSETTO:-0400
TZNAME:EDT
DTSTART:20240310T070000
END:DAYLIGHT
BEGIN:STANDARD
TZOFFSETFROM:-0400
TZOFFSETTO:-0500
TZNAME:EST
DTSTART:20241103T060000
END:STANDARD
END:VTIMEZONE
BEGIN:VEVENT
DTSTART;TZID=America/New_York:20230322T100000
DTEND;TZID=America/New_York:20230322T123000
DTSTAMP:20260422T175306
CREATED:20230120T185711Z
LAST-MODIFIED:20230120T185711Z
UID:6837-1679479200-1679488200@gardenclubofconcord.org
SUMMARY:Spring Outreach\, Flowers for Seniors
DESCRIPTION:Flower arranging sessions\, followed by participants dropping off to recipients.
URL:https://gardenclubofconcord.org/event/spring-outreach-flowers-for-seniors/
ORGANIZER;CN="Garden Club of Concord":MAILTO:comment-reply@wordpress.com
END:VEVENT
BEGIN:VEVENT
DTSTART;TZID=America/New_York:20230308T090000
DTEND;TZID=America/New_York:20230308T100000
DTSTAMP:20260422T175306
CREATED:20220806T161309Z
LAST-MODIFIED:20220806T161309Z
UID:6342-1678266000-1678269600@gardenclubofconcord.org
SUMMARY:GCC Board Meeting
DESCRIPTION:
URL:https://gardenclubofconcord.org/event/gcc-board-meeting-35/
END:VEVENT
BEGIN:VEVENT
DTSTART;TZID=America/New_York:20230215T130000
DTEND;TZID=America/New_York:20230215T143000
DTSTAMP:20260422T175306
CREATED:20220806T162455Z
LAST-MODIFIED:20220922T125800Z
UID:6359-1676466000-1676471400@gardenclubofconcord.org
SUMMARY:February Program
DESCRIPTION:Rock Gardening: Reimagining a Classic Style for Today’s Garden\, Joseph Tychonievich\, (in person with virtual guest\, zoom available)\nAn introduction into the world of rock gardening. Joseph will cover the advantages of creating one (small spaces\, difficult site\, cool plants)\, describe the varying styles\, and layout the basics of how and where to begin. His presentation will end with a dive into outstanding plants.
URL:https://gardenclubofconcord.org/event/february-program/
LOCATION:Zoom presentation
ORGANIZER;CN="Garden Club of Concord":MAILTO:comment-reply@wordpress.com
END:VEVENT
BEGIN:VEVENT
DTSTART;TZID=America/New_York:20230208T090000
DTEND;TZID=America/New_York:20230208T100000
DTSTAMP:20260422T175306
CREATED:20220806T161242Z
LAST-MODIFIED:20220806T161242Z
UID:6340-1675846800-1675850400@gardenclubofconcord.org
SUMMARY:GCC Board Meeting
DESCRIPTION:
URL:https://gardenclubofconcord.org/event/gcc-board-meeting-34/
END:VEVENT
BEGIN:VEVENT
DTSTART;TZID=America/New_York:20230118T130000
DTEND;TZID=America/New_York:20230118T143000
DTSTAMP:20260422T175306
CREATED:20220806T162257Z
LAST-MODIFIED:20220922T125305Z
UID:6357-1674046800-1674052200@gardenclubofconcord.org
SUMMARY:January Program
DESCRIPTION:The Beginners’ Guide to Growing Orchids at Home (presentation is in person and will be broadcast over Zoom)\nMike Badia and Linda Abrams will present “The Beginners Guide to Growing Orchids at Home” and will include tips on the basics of orchid culture including good types of orchids for growing in the home\, watering\, fertilizing\, light requirements\, potting mixes\, repotting and pests. We will also include some of our favorite sources for orchid plants\, orchid cultural information on the web and give a brief overview of our Massachusetts Orchid Society (MOS).
URL:https://gardenclubofconcord.org/event/january-program/
LOCATION:Zoom presentation
ORGANIZER;CN="Garden Club of Concord":MAILTO:comment-reply@wordpress.com
END:VEVENT
BEGIN:VEVENT
DTSTART;TZID=America/New_York:20230111T090000
DTEND;TZID=America/New_York:20230111T100000
DTSTAMP:20260422T175306
CREATED:20220806T161207Z
LAST-MODIFIED:20220806T161207Z
UID:6338-1673427600-1673431200@gardenclubofconcord.org
SUMMARY:GCC Board Meeting
DESCRIPTION:
URL:https://gardenclubofconcord.org/event/gcc-board-meeting-33/
END:VEVENT
BEGIN:VEVENT
DTSTART;TZID=America/New_York:20221214T100000
DTEND;TZID=America/New_York:20221214T230000
DTSTAMP:20260422T175306
CREATED:20220806T161102Z
LAST-MODIFIED:20220806T161102Z
UID:6336-1671012000-1671058800@gardenclubofconcord.org
SUMMARY:GCC Board Meeting
DESCRIPTION:
URL:https://gardenclubofconcord.org/event/gcc-board-meeting-32/
END:VEVENT
BEGIN:VEVENT
DTSTART;TZID=America/New_York:20221208T100000
DTEND;TZID=America/New_York:20221208T113000
DTSTAMP:20260422T175306
CREATED:20220806T164456Z
LAST-MODIFIED:20220806T164456Z
UID:6370-1670493600-1670499000@gardenclubofconcord.org
SUMMARY:Council on Aging Workshop
DESCRIPTION:One of the hits of our season last year. Thank you to the generous volunteers.\nTime approximate\, may change.
URL:https://gardenclubofconcord.org/event/council-on-aging-workshop/
ORGANIZER;CN="Garden Club of Concord":MAILTO:comment-reply@wordpress.com
END:VEVENT
BEGIN:VEVENT
DTSTART;TZID=America/New_York:20221207T110000
DTEND;TZID=America/New_York:20221207T133000
DTSTAMP:20260422T175306
CREATED:20220806T165353Z
LAST-MODIFIED:20220806T165353Z
UID:6379-1670410800-1670419800@gardenclubofconcord.org
SUMMARY:Holiday Gathering
DESCRIPTION:Save the Date: details TBD
URL:https://gardenclubofconcord.org/event/holiday-gathering-2/
END:VEVENT
BEGIN:VEVENT
DTSTART;TZID=America/New_York:20221206T110000
DTEND;TZID=America/New_York:20221206T130000
DTSTAMP:20260422T175306
CREATED:20220806T164156Z
LAST-MODIFIED:20220806T165240Z
UID:6368-1670324400-1670331600@gardenclubofconcord.org
SUMMARY:Cans for Caring
DESCRIPTION:Sign up and waiting list are full\, details approximate and time may change. Contact Ellen Whitney.
URL:https://gardenclubofconcord.org/event/cans-for-caring-2/
END:VEVENT
BEGIN:VEVENT
DTSTART;TZID=America/New_York:20221205T110000
DTEND;TZID=America/New_York:20221205T130000
DTSTAMP:20260422T175306
CREATED:20220806T165548Z
LAST-MODIFIED:20220922T203013Z
UID:6381-1670238000-1670245200@gardenclubofconcord.org
SUMMARY:Holiday Workshop
DESCRIPTION:Date approximate and is subject to change. A group activity\, making a creative flower or wreath arrangement\, supplies and design made possible by co-chairs. 
URL:https://gardenclubofconcord.org/event/holiday-wreath-workshop/
END:VEVENT
BEGIN:VEVENT
DTSTART;TZID=America/New_York:20221109T100000
DTEND;TZID=America/New_York:20221109T120000
DTSTAMP:20260422T175306
CREATED:20221024T200404Z
LAST-MODIFIED:20221024T200500Z
UID:6618-1667988000-1667995200@gardenclubofconcord.org
SUMMARY:November Program
DESCRIPTION:Note special day and time. \nShelburne Farms with Heidi Webb.   \nHeidi will tell the story of how Shelburne Farms\, a 1\,400 acre National Historic Landmark on Lake Champlain\,\ntransformed from a 19thc. estate to a internationally recognized campus for deep learning with an emphasis on\nthe environment. \nA joint program with Seeds and Weeds. This event is in person only. There will not be a Zoom.
URL:https://gardenclubofconcord.org/event/november-program/
LOCATION:Concord Art Association
END:VEVENT
BEGIN:VEVENT
DTSTART;TZID=America/New_York:20221109T100000
DTEND;TZID=America/New_York:20221109T113000
DTSTAMP:20260422T175306
CREATED:20220806T161029Z
LAST-MODIFIED:20220806T161029Z
UID:6334-1667988000-1667993400@gardenclubofconcord.org
SUMMARY:GCC Board Meeting
DESCRIPTION:
URL:https://gardenclubofconcord.org/event/gcc-board-meeting-31/
END:VEVENT
BEGIN:VEVENT
DTSTART;TZID=America/New_York:20221019T130000
DTEND;TZID=America/New_York:20221019T150000
DTSTAMP:20260422T175306
CREATED:20220806T161905Z
LAST-MODIFIED:20220922T130059Z
UID:6353-1666184400-1666191600@gardenclubofconcord.org
SUMMARY:October Program
DESCRIPTION:Edible Wild Plants and Mushrooms in and Around Concord\, Russ Cohen (in person meeting with virtual guest\, will be shared over Zoom)\nOur area is home to over 90 species of wild edibles and mushrooms. Russ will cover over two dozen of the tastiest\, with identification tips\, edible portions\, seasons of availability\, and preparation methods. Stay tuned for a future in-person walk with Russ in the spring.
URL:https://gardenclubofconcord.org/event/october-program/
LOCATION:54 Walden St.
ORGANIZER;CN="Garden Club of Concord":MAILTO:comment-reply@wordpress.com
END:VEVENT
BEGIN:VEVENT
DTSTART;TZID=America/New_York:20221012T100000
DTEND;TZID=America/New_York:20221012T113000
DTSTAMP:20260422T175306
CREATED:20220806T160952Z
LAST-MODIFIED:20220806T160952Z
UID:6332-1665568800-1665574200@gardenclubofconcord.org
SUMMARY:GCC Board Meeting
DESCRIPTION:
URL:https://gardenclubofconcord.org/event/gcc-board-meeting-30/
END:VEVENT
BEGIN:VEVENT
DTSTART;TZID=America/New_York:20220921T153000
DTEND;TZID=America/New_York:20220921T170000
DTSTAMP:20260422T175306
CREATED:20220806T161550Z
LAST-MODIFIED:20220922T123451Z
UID:6350-1663774200-1663779600@gardenclubofconcord.org
SUMMARY:GCC September Cocktail Party
DESCRIPTION:At Jane Rupley’s. Details to be sent over email.
URL:https://gardenclubofconcord.org/event/gcc-september-cocktail-party/
END:VEVENT
BEGIN:VEVENT
DTSTART;TZID=America/New_York:20220914T100000
DTEND;TZID=America/New_York:20221023T113000
DTSTAMP:20260422T175306
CREATED:20220806T160922Z
LAST-MODIFIED:20220806T160922Z
UID:6330-1663149600-1666524600@gardenclubofconcord.org
SUMMARY:GCC Board Meeting
DESCRIPTION:
URL:https://gardenclubofconcord.org/event/gcc-board-meeting-29/
END:VEVENT
BEGIN:VEVENT
DTSTART;TZID=America/New_York:20220910T100000
DTEND;TZID=America/New_York:20220910T140000
DTSTAMP:20260422T175306
CREATED:20220806T165120Z
LAST-MODIFIED:20220806T165120Z
UID:6376-1662804000-1662818400@gardenclubofconcord.org
SUMMARY:Concord Ag Day
DESCRIPTION:Concord Ag Day is a once a year farmers’ market celebrating local agriculture organized by the Concord Agriculture Committee to showcase Concord farms and local produce. This unique market showcases the bounty of Concord’s many farm businesses at the height of the growing season.
URL:https://gardenclubofconcord.org/event/concord-ag-day/
LOCATION:Concord Center
END:VEVENT
BEGIN:VEVENT
DTSTART;TZID=America/New_York:20220614T110000
DTEND;TZID=America/New_York:20220614T140000
DTSTAMP:20260422T175306
CREATED:20220315T124711Z
LAST-MODIFIED:20220315T124711Z
UID:5933-1655204400-1655215200@gardenclubofconcord.org
SUMMARY:June Luncheon
DESCRIPTION:At the Concord Country Club\, details forthcoming.
URL:https://gardenclubofconcord.org/event/june-luncheon/
LOCATION:Concord Country Club\, 246 Old Rd to 9 Acre Corner\, Concord\, MA\, United States
END:VEVENT
BEGIN:VEVENT
DTSTART;TZID=America/New_York:20220608T090000
DTEND;TZID=America/New_York:20220608T100000
DTSTAMP:20260422T175306
CREATED:20210918T155349Z
LAST-MODIFIED:20210918T155349Z
UID:5338-1654678800-1654682400@gardenclubofconcord.org
SUMMARY:GCC Board Meeting
DESCRIPTION:
URL:https://gardenclubofconcord.org/event/gcc-board-meeting-28/
END:VEVENT
BEGIN:VEVENT
DTSTART;TZID=America/New_York:20220518T190000
DTEND;TZID=America/New_York:20220518T200000
DTSTAMP:20260422T175306
CREATED:20210706T125711Z
LAST-MODIFIED:20210706T125711Z
UID:5208-1652900400-1652904000@gardenclubofconcord.org
SUMMARY:Rare Native Species and Invasive Species: Open Community Meeting
DESCRIPTION:Please join us for our in-person\, annual open community meeting on May 18\, 2022 at 7 p.m. at Tri Con Church. Be sure to tell your friends and neighbors to join us! \nMaddie Krosevsky\, a Concord-Carlisle High School graduate\, is an expert botanist in the removal of invasive plants and the development of native gardens. 
URL:https://gardenclubofconcord.org/event/rare-native-species-and-invasive-species-open-community-meeting/
LOCATION:54 Walden St.
END:VEVENT
BEGIN:VEVENT
DTSTART;TZID=America/New_York:20220511T090000
DTEND;TZID=America/New_York:20220511T100000
DTSTAMP:20260422T175306
CREATED:20210918T155311Z
LAST-MODIFIED:20210918T155311Z
UID:5336-1652259600-1652263200@gardenclubofconcord.org
SUMMARY:GCC Board Meeting
DESCRIPTION:
URL:https://gardenclubofconcord.org/event/gcc-board-meeting-27/
END:VEVENT
BEGIN:VEVENT
DTSTART;VALUE=DATE:20220507
DTEND;VALUE=DATE:20220508
DTSTAMP:20260422T175306
CREATED:20220201T165248Z
LAST-MODIFIED:20220502T125653Z
UID:5800-1651881600-1651967999@gardenclubofconcord.org
SUMMARY:Annual Plant Sale
DESCRIPTION:At TriCon Church\, 54 Walden Street. 8:30 am – 12:30 pm
URL:https://gardenclubofconcord.org/event/plant-sale-2/
LOCATION:Tri Con Church lawn\, 54 Walden St.\, Concord\, MA\, United States
END:VEVENT
BEGIN:VEVENT
DTSTART;VALUE=DATE:20220429
DTEND;VALUE=DATE:20220430
DTSTAMP:20260422T175306
CREATED:20220215T150100Z
LAST-MODIFIED:20220215T150100Z
UID:5859-1651190400-1651276799@gardenclubofconcord.org
SUMMARY:Arbor Day
DESCRIPTION:Joining in 2022’2 celebration of 150 years of Arbor Day
URL:https://gardenclubofconcord.org/event/arbor-day/
END:VEVENT
BEGIN:VEVENT
DTSTART;TZID=America/New_York:20220420T130000
DTEND;TZID=America/New_York:20220420T140000
DTSTAMP:20260422T175306
CREATED:20210706T125551Z
LAST-MODIFIED:20210706T125551Z
UID:5205-1650459600-1650463200@gardenclubofconcord.org
SUMMARY:Global Warming and Its Impact on Boston
DESCRIPTION:Please  join us for a virtual presentation on Wednesday\, April 20\, at 1 p.m. by Andrew Gapinski\, Head of Horticulture at the Arnold Arboretum of Harvard University. \nAndrew will provide insight into how global warming is effecting the Boston area through the microcosm of the Arboretum. He will also discuss what steps are being taken to moderate the effects.
URL:https://gardenclubofconcord.org/event/global-warming-and-its-impact-on-boston/
LOCATION:via Zoom
END:VEVENT
BEGIN:VEVENT
DTSTART;TZID=America/New_York:20220413T090000
DTEND;TZID=America/New_York:20220413T100000
DTSTAMP:20260422T175306
CREATED:20210918T155233Z
LAST-MODIFIED:20210918T155233Z
UID:5334-1649840400-1649844000@gardenclubofconcord.org
SUMMARY:GCC Board Meeting
DESCRIPTION:
URL:https://gardenclubofconcord.org/event/gcc-board-meeting-26/
END:VEVENT
BEGIN:VEVENT
DTSTART;TZID=America/New_York:20220323T110000
DTEND;TZID=America/New_York:20220323T130000
DTSTAMP:20260422T175306
CREATED:20211201T152726Z
LAST-MODIFIED:20220316T133733Z
UID:5636-1648033200-1648040400@gardenclubofconcord.org
SUMMARY:Spring Workshop
DESCRIPTION:Please see March Newsletter on the blog for details.
URL:https://gardenclubofconcord.org/event/spring-workshop/
END:VEVENT
BEGIN:VEVENT
DTSTART;TZID=America/New_York:20220312T100000
DTEND;TZID=America/New_York:20220312T120000
DTSTAMP:20260422T175306
CREATED:20220206T213509Z
LAST-MODIFIED:20220206T213509Z
UID:5823-1647079200-1647086400@gardenclubofconcord.org
SUMMARY:Town Gardens Spring Cleanup
DESCRIPTION:Details forthcoming.
URL:https://gardenclubofconcord.org/event/town-gardens-spring-cleanup/
END:VEVENT
BEGIN:VEVENT
DTSTART;TZID=America/New_York:20220309T090000
DTEND;TZID=America/New_York:20220309T100000
DTSTAMP:20260422T175306
CREATED:20210918T155137Z
LAST-MODIFIED:20210918T155137Z
UID:5332-1646816400-1646820000@gardenclubofconcord.org
SUMMARY:GCC Board Meeting
DESCRIPTION:
URL:https://gardenclubofconcord.org/event/gcc-board-meeting-25/
END:VEVENT
BEGIN:VEVENT
DTSTART;TZID=America/New_York:20220216T130000
DTEND;TZID=America/New_York:20220216T140000
DTSTAMP:20260422T175306
CREATED:20210706T125437Z
LAST-MODIFIED:20220214T222357Z
UID:5203-1645016400-1645020000@gardenclubofconcord.org
SUMMARY:Mount Auburn's Asa Gray Garden
DESCRIPTION:Please join us for a virtual presentation on Wednesday\, February 16th at 1:15 p.m. by Steph Almasi\, a lecturer at Mount Auburn Cemetery. \n  \nJust inside the entrance\, adjacent to Story Chapel\, is Asa Gray Garden. Named for the local botanist\, Asa Gray who is interred at the cemetery\, this garden is a living tribute to his life’s work. Recently renovated in 2018\, it features over 175 species of trees\, shrubs\, herbaceous perennials and grasses that showcase an array of native and Asian species. The garden transforms throughout the seasons\, teaching all about the importance of biodiversity while presenting an array of plants\, native and non-native and supporting Asa Gray’s studies. 
URL:https://gardenclubofconcord.org/event/plants-and-pollinators/
LOCATION:via Zoom
END:VEVENT
END:VCALENDAR