BEGIN:VCALENDAR
VERSION:2.0
PRODID:-//Garden Club of Concord - ECPv6.15.20//NONSGML v1.0//EN
CALSCALE:GREGORIAN
METHOD:PUBLISH
X-WR-CALNAME:Garden Club of Concord
X-ORIGINAL-URL:https://gardenclubofconcord.org
X-WR-CALDESC:Events for Garden Club of Concord
REFRESH-INTERVAL;VALUE=DURATION:PT1H
X-Robots-Tag:noindex
X-PUBLISHED-TTL:PT1H
BEGIN:VTIMEZONE
TZID:America/New_York
BEGIN:DAYLIGHT
TZOFFSETFROM:-0500
TZOFFSETTO:-0400
TZNAME:EDT
DTSTART:20250309T070000
END:DAYLIGHT
BEGIN:STANDARD
TZOFFSETFROM:-0400
TZOFFSETTO:-0500
TZNAME:EST
DTSTART:20251102T060000
END:STANDARD
BEGIN:DAYLIGHT
TZOFFSETFROM:-0500
TZOFFSETTO:-0400
TZNAME:EDT
DTSTART:20260308T070000
END:DAYLIGHT
BEGIN:STANDARD
TZOFFSETFROM:-0400
TZOFFSETTO:-0500
TZNAME:EST
DTSTART:20261101T060000
END:STANDARD
BEGIN:DAYLIGHT
TZOFFSETFROM:-0500
TZOFFSETTO:-0400
TZNAME:EDT
DTSTART:20270314T070000
END:DAYLIGHT
BEGIN:STANDARD
TZOFFSETFROM:-0400
TZOFFSETTO:-0500
TZNAME:EST
DTSTART:20271107T060000
END:STANDARD
END:VTIMEZONE
BEGIN:VEVENT
DTSTART;TZID=America/New_York:20260121T110000
DTEND;TZID=America/New_York:20260121T110000
DTSTAMP:20260421T192253
CREATED:20250830T202301Z
LAST-MODIFIED:20250831T235321Z
UID:9313-1768993200-1768993200@gardenclubofconcord.org
SUMMARY:Floral Witness: Opening the Spirit to Time and Place by Elleln Whitney
DESCRIPTION:Trinitarian Congregational Church
URL:https://gardenclubofconcord.org/event/floral-witness-opening-the-spirit-to-time-and-place/
LOCATION:54 Walden St.
END:VEVENT
BEGIN:VEVENT
DTSTART;TZID=America/New_York:20260218T130000
DTEND;TZID=America/New_York:20260218T130000
DTSTAMP:20260421T192253
CREATED:20250830T202607Z
LAST-MODIFIED:20250902T145021Z
UID:9318-1771419600-1771419600@gardenclubofconcord.org
SUMMARY:Ask the Experts: Lili Morss\, Charity Tremblay\, Marty Wallace
DESCRIPTION:Trinitarian Congregational Church
URL:https://gardenclubofconcord.org/event/ask-the-experts/
LOCATION:54 Walden St.
END:VEVENT
BEGIN:VEVENT
DTSTART;TZID=America/New_York:20260318T103000
DTEND;TZID=America/New_York:20260318T140000
DTSTAMP:20260421T192253
CREATED:20250901T003233Z
LAST-MODIFIED:20250901T003233Z
UID:9357-1773829800-1773842400@gardenclubofconcord.org
SUMMARY:Spring Outreach
DESCRIPTION:Barn at the Nashoba Brooks School \n200 Strawberry Hill Road
URL:https://gardenclubofconcord.org/event/spring-outreach-2/
LOCATION:MA
END:VEVENT
BEGIN:VEVENT
DTSTART;TZID=America/New_York:20260415T130000
DTEND;TZID=America/New_York:20260415T130000
DTSTAMP:20260421T192253
CREATED:20250901T003718Z
LAST-MODIFIED:20250902T145250Z
UID:9362-1776258000-1776258000@gardenclubofconcord.org
SUMMARY:Concord's Incomparable Botanical Legacy\, by Cherry Cory
DESCRIPTION:54 Walden Street
URL:https://gardenclubofconcord.org/event/concords-incomparable-boanical-legacy-by-cherry-cory/
LOCATION:Trinitarian Congregational Church\, 54 Walden St\, Concord\, MA\, 01742
END:VEVENT
BEGIN:VEVENT
DTSTART;TZID=America/New_York:20260424T100000
DTEND;TZID=America/New_York:20260424T120000
DTSTAMP:20260421T192253
CREATED:20250901T004108Z
LAST-MODIFIED:20250903T132724Z
UID:9365-1777024800-1777032000@gardenclubofconcord.org
SUMMARY:Arbor Day
DESCRIPTION:Location TBD
URL:https://gardenclubofconcord.org/event/arbor-day-4/
LOCATION:TBD
END:VEVENT
BEGIN:VEVENT
DTSTART;TZID=America/New_York:20260509T080000
DTEND;TZID=America/New_York:20260509T080000
DTSTAMP:20260421T192253
CREATED:20250901T004235Z
LAST-MODIFIED:20250901T004940Z
UID:9367-1778313600-1778313600@gardenclubofconcord.org
SUMMARY:Plant Sale
DESCRIPTION:
URL:https://gardenclubofconcord.org/event/plant-sale-5/
LOCATION:Trinitarian Congregational Church\, 54 Walden St\, Concord\, MA\, 01742\, United States
END:VEVENT
BEGIN:VEVENT
DTSTART;TZID=America/New_York:20260513T190000
DTEND;TZID=America/New_York:20260513T210000
DTSTAMP:20260421T192253
CREATED:20250901T004656Z
LAST-MODIFIED:20250902T145717Z
UID:9370-1778698800-1778706000@gardenclubofconcord.org
SUMMARY:Open Meeting\, hosted with Seeds and Weeds
DESCRIPTION:No Till Methods in Home Gardens & Other Soil Topics \nBy Mari Congdon of Gaining Ground
URL:https://gardenclubofconcord.org/event/open-meeting-with-seeds-and-weeds/
LOCATION:Trinitarian Congregational Church\, 54 Walden St\, Concord\, MA\, 01742\, United States
END:VEVENT
BEGIN:VEVENT
DTSTART;TZID=America/New_York:20260617T110000
DTEND;TZID=America/New_York:20260617T130000
DTSTAMP:20260421T192253
CREATED:20250901T012121Z
LAST-MODIFIED:20250902T145837Z
UID:9377-1781694000-1781701200@gardenclubofconcord.org
SUMMARY:Annual Meeting and Luncheon
DESCRIPTION:
URL:https://gardenclubofconcord.org/event/annual-meeting-and-luncheon-4/
LOCATION:Concord Country Club\, 246 Old Rd to 9 Acre Corner\, Concord\, MA\, United States
END:VEVENT
END:VCALENDAR